BEGIN:VCALENDAR
VERSION:2.0
PRODID:-//PawsCo - ECPv6.15.20//NONSGML v1.0//EN
CALSCALE:GREGORIAN
METHOD:PUBLISH
X-WR-CALNAME:PawsCo
X-ORIGINAL-URL:https://pawsco.org
X-WR-CALDESC:Events for PawsCo
REFRESH-INTERVAL;VALUE=DURATION:PT1H
X-Robots-Tag:noindex
X-PUBLISHED-TTL:PT1H
BEGIN:VTIMEZONE
TZID:America/Denver
BEGIN:DAYLIGHT
TZOFFSETFROM:-0700
TZOFFSETTO:-0600
TZNAME:MDT
DTSTART:20250309T090000
END:DAYLIGHT
BEGIN:STANDARD
TZOFFSETFROM:-0600
TZOFFSETTO:-0700
TZNAME:MST
DTSTART:20251102T080000
END:STANDARD
BEGIN:DAYLIGHT
TZOFFSETFROM:-0700
TZOFFSETTO:-0600
TZNAME:MDT
DTSTART:20260308T090000
END:DAYLIGHT
BEGIN:STANDARD
TZOFFSETFROM:-0600
TZOFFSETTO:-0700
TZNAME:MST
DTSTART:20261101T080000
END:STANDARD
BEGIN:DAYLIGHT
TZOFFSETFROM:-0700
TZOFFSETTO:-0600
TZNAME:MDT
DTSTART:20270314T090000
END:DAYLIGHT
BEGIN:STANDARD
TZOFFSETFROM:-0600
TZOFFSETTO:-0700
TZNAME:MST
DTSTART:20271107T080000
END:STANDARD
END:VTIMEZONE
BEGIN:VEVENT
DTSTART;TZID=America/Denver:20260315T120000
DTEND;TZID=America/Denver:20260315T160000
DTSTAMP:20260423T110738
CREATED:20260212T012217Z
LAST-MODIFIED:20260212T012217Z
UID:40177-1773576000-1773590400@pawsco.org
SUMMARY:Meet & Greet Rescue Animals at Pet Supplies Plus
DESCRIPTION:Join us at Pet Supplies Plus for our monthly Adoption Meet & Greet\, happening every 3rd Sunday from 12–4pm! 🐾 \nStop by to meet some of our wonderful adoptable animals\, learn more about adoption and fostering\, and spend time with fellow animal lovers in the community. From time to time\, we’ll also offer a simple\, hands-on activity that supports animals in rescue—like helping assemble enrichment items or care kits. Activities may vary by month\, so be sure to stop in and see what’s happening when you visit! Whether you’re hoping to meet your future best friend or just want to enjoy a feel-good afternoon surrounded by pets\, we’d love to see you. \nVisit PawsCo at Pet Supplies Plus-Downtown Denver (LoDo) to meet some of our adorable adoptable animals and learn more about getting involved with our org! \nDate: Every 3rd Sunday\nTime: 12:00 – 4:00 PM\nLocation: Pet Supplies Plus\, 1480 Arapahoe St\, Denver\, CO 80202
URL:https://pawsco.org/event/meet-greet-rescue-animals-at-pet-supplies-plus-2
LOCATION:Pet Supplies Plus\, 1480 Arapahoe St\, Denver\, CO\, 80202
ATTACH;FMTTYPE=image/png:https://pawsco.org/wp-content/uploads/2026/02/pawsco-pet-supplies-plus-green.png
END:VEVENT
BEGIN:VEVENT
DTSTART;TZID=America/Denver:20260328T110000
DTEND;TZID=America/Denver:20260328T130000
DTSTAMP:20260423T110738
CREATED:20260212T012810Z
LAST-MODIFIED:20260227T165358Z
UID:40181-1774695600-1774702800@pawsco.org
SUMMARY:Yappy Hour at Happy Camper LoHi
DESCRIPTION:Join us at Happy Camper in LoHi for a tail-wagging good time with Sploot Veterinary Care and our adoptable pups! 🐾 \nWe’re bringing some of our adorable\, adoptable dogs to this iconic patio so you can grab a drink\, enjoy great eats\, and maybe even meet your new best friend. Whether you’re seriously looking to adopt or just want to spend your afternoon hanging out with some very good dogs\, this is the perfect excuse to stop by. Our team will be onsite to answer questions about adoption\, fostering\, and how you can get involved. \nCome for the pizza and patio vibes — stay for the puppy kisses. Who knows? Your next happy hour might just come with a forever friend. 💛
URL:https://pawsco.org/event/yappy-hour-at-happy-camper-lohi
LOCATION:Happy Camper LoHi\, 3211 N Pecos St\, Denver\, CO\, 80211
ATTACH;FMTTYPE=image/jpeg:https://pawsco.org/wp-content/uploads/2026/02/Pawsco_HC-Fnalized-flyer-insta-post-Bethany-Auck.jpg
END:VEVENT
END:VCALENDAR